
BEGIN:VCALENDAR
VERSION:2.0
PRODID:-//ÖsztönAnyu - ECPv6.15.20//NONSGML v1.0//EN
CALSCALE:GREGORIAN
METHOD:PUBLISH
X-WR-CALNAME:ÖsztönAnyu
X-ORIGINAL-URL:https://osztonanyu.hu
X-WR-CALDESC:Események ÖsztönAnyu
REFRESH-INTERVAL;VALUE=DURATION:PT1H
X-Robots-Tag:noindex
X-PUBLISHED-TTL:PT1H
BEGIN:VTIMEZONE
TZID:Europe/Paris
BEGIN:DAYLIGHT
TZOFFSETFROM:+0100
TZOFFSETTO:+0200
TZNAME:CEST
DTSTART:20230326T010000
END:DAYLIGHT
BEGIN:STANDARD
TZOFFSETFROM:+0200
TZOFFSETTO:+0100
TZNAME:CET
DTSTART:20231029T010000
END:STANDARD
BEGIN:DAYLIGHT
TZOFFSETFROM:+0100
TZOFFSETTO:+0200
TZNAME:CEST
DTSTART:20240331T010000
END:DAYLIGHT
BEGIN:STANDARD
TZOFFSETFROM:+0200
TZOFFSETTO:+0100
TZNAME:CET
DTSTART:20241027T010000
END:STANDARD
BEGIN:DAYLIGHT
TZOFFSETFROM:+0100
TZOFFSETTO:+0200
TZNAME:CEST
DTSTART:20250330T010000
END:DAYLIGHT
BEGIN:STANDARD
TZOFFSETFROM:+0200
TZOFFSETTO:+0100
TZNAME:CET
DTSTART:20251026T010000
END:STANDARD
END:VTIMEZONE
BEGIN:VEVENT
DTSTART;TZID=Europe/Paris:20240503T100000
DTEND;TZID=Europe/Paris:20240503T110000
DTSTAMP:20260422T055225
CREATED:20240320T010008Z
LAST-MODIFIED:20240320T010008Z
UID:10626-1714730400-1714734000@osztonanyu.hu
SUMMARY:Baba klub
DESCRIPTION:Vedd meg a jegyedet vagy bérletedet itt.
URL:https://osztonanyu.hu/esemeny/baba-klub-05-03/
END:VEVENT
BEGIN:VEVENT
DTSTART;TZID=Europe/Paris:20240510T100000
DTEND;TZID=Europe/Paris:20240510T110000
DTSTAMP:20260422T055225
CREATED:20240320T010213Z
LAST-MODIFIED:20240320T010213Z
UID:10625-1715335200-1715338800@osztonanyu.hu
SUMMARY:Baba klub
DESCRIPTION:Vedd meg a jegyedet vagy bérletedet itt.
URL:https://osztonanyu.hu/esemeny/baba-klub-05-10/
END:VEVENT
BEGIN:VEVENT
DTSTART;TZID=Europe/Paris:20240515T210000
DTEND;TZID=Europe/Paris:20240515T220000
DTSTAMP:20260422T055225
CREATED:20240403T204911Z
LAST-MODIFIED:20240403T204911Z
UID:11094-1715806800-1715810400@osztonanyu.hu
SUMMARY:Csoportos konzultáció
DESCRIPTION:Gyere és hozd el a kérdéseidet! Jelentkezz itt.
URL:https://osztonanyu.hu/esemeny/csoportos-konzultacio-05-15/
END:VEVENT
BEGIN:VEVENT
DTSTART;TZID=Europe/Paris:20240517T100000
DTEND;TZID=Europe/Paris:20240517T110000
DTSTAMP:20260422T055225
CREATED:20240320T010631Z
LAST-MODIFIED:20240320T010631Z
UID:10638-1715940000-1715943600@osztonanyu.hu
SUMMARY:Baba klub
DESCRIPTION:Vedd meg a jegyedet vagy bérletedet itt.
URL:https://osztonanyu.hu/esemeny/baba-klub-05-17/
END:VEVENT
BEGIN:VEVENT
DTSTART;TZID=Europe/Paris:20240524T100000
DTEND;TZID=Europe/Paris:20240524T110000
DTSTAMP:20260422T055225
CREATED:20240320T010721Z
LAST-MODIFIED:20240320T010721Z
UID:10637-1716544800-1716548400@osztonanyu.hu
SUMMARY:Baba klub
DESCRIPTION:Vedd meg a jegyedet vagy bérletedet itt.
URL:https://osztonanyu.hu/esemeny/baba-klub-05-24/
END:VEVENT
BEGIN:VEVENT
DTSTART;TZID=Europe/Paris:20240531T100000
DTEND;TZID=Europe/Paris:20240531T110000
DTSTAMP:20260422T055225
CREATED:20240320T010821Z
LAST-MODIFIED:20240320T010821Z
UID:10636-1717149600-1717153200@osztonanyu.hu
SUMMARY:Baba klub
DESCRIPTION:Vedd meg a jegyedet vagy bérletedet itt.
URL:https://osztonanyu.hu/esemeny/baba-klub-05-31/
END:VEVENT
END:VCALENDAR