
BEGIN:VCALENDAR
VERSION:2.0
PRODID:-//ÖsztönAnyu - ECPv6.15.20//NONSGML v1.0//EN
CALSCALE:GREGORIAN
METHOD:PUBLISH
X-ORIGINAL-URL:https://osztonanyu.hu
X-WR-CALDESC:Események ÖsztönAnyu
REFRESH-INTERVAL;VALUE=DURATION:PT1H
X-Robots-Tag:noindex
X-PUBLISHED-TTL:PT1H
BEGIN:VTIMEZONE
TZID:Europe/Paris
BEGIN:DAYLIGHT
TZOFFSETFROM:+0100
TZOFFSETTO:+0200
TZNAME:CEST
DTSTART:20230326T010000
END:DAYLIGHT
BEGIN:STANDARD
TZOFFSETFROM:+0200
TZOFFSETTO:+0100
TZNAME:CET
DTSTART:20231029T010000
END:STANDARD
BEGIN:DAYLIGHT
TZOFFSETFROM:+0100
TZOFFSETTO:+0200
TZNAME:CEST
DTSTART:20240331T010000
END:DAYLIGHT
BEGIN:STANDARD
TZOFFSETFROM:+0200
TZOFFSETTO:+0100
TZNAME:CET
DTSTART:20241027T010000
END:STANDARD
BEGIN:DAYLIGHT
TZOFFSETFROM:+0100
TZOFFSETTO:+0200
TZNAME:CEST
DTSTART:20250330T010000
END:DAYLIGHT
BEGIN:STANDARD
TZOFFSETFROM:+0200
TZOFFSETTO:+0100
TZNAME:CET
DTSTART:20251026T010000
END:STANDARD
END:VTIMEZONE
BEGIN:VEVENT
DTSTART;TZID=Europe/Paris:20240322T100000
DTEND;TZID=Europe/Paris:20240322T110000
DTSTAMP:20260422T095042
CREATED:20240223T153037Z
LAST-MODIFIED:20240223T153037Z
UID:10200-1711101600-1711105200@osztonanyu.hu
SUMMARY:Baba klub
DESCRIPTION:Vedd meg a jegyedet vagy bérletedet itt.
URL:https://osztonanyu.hu/esemeny/baba-klub-03-22/
LOCATION:Bartók Pagony\, Bartók Béla út 3\, Budapest\, 1118\, Magyarország
END:VEVENT
END:VCALENDAR