
BEGIN:VCALENDAR
VERSION:2.0
PRODID:-//ÖsztönAnyu - ECPv6.15.20//NONSGML v1.0//EN
CALSCALE:GREGORIAN
METHOD:PUBLISH
X-WR-CALNAME:ÖsztönAnyu
X-ORIGINAL-URL:https://osztonanyu.hu
X-WR-CALDESC:Események ÖsztönAnyu
REFRESH-INTERVAL;VALUE=DURATION:PT1H
X-Robots-Tag:noindex
X-PUBLISHED-TTL:PT1H
BEGIN:VTIMEZONE
TZID:Europe/Paris
BEGIN:DAYLIGHT
TZOFFSETFROM:+0100
TZOFFSETTO:+0200
TZNAME:CEST
DTSTART:20230326T010000
END:DAYLIGHT
BEGIN:STANDARD
TZOFFSETFROM:+0200
TZOFFSETTO:+0100
TZNAME:CET
DTSTART:20231029T010000
END:STANDARD
BEGIN:DAYLIGHT
TZOFFSETFROM:+0100
TZOFFSETTO:+0200
TZNAME:CEST
DTSTART:20240331T010000
END:DAYLIGHT
BEGIN:STANDARD
TZOFFSETFROM:+0200
TZOFFSETTO:+0100
TZNAME:CET
DTSTART:20241027T010000
END:STANDARD
BEGIN:DAYLIGHT
TZOFFSETFROM:+0100
TZOFFSETTO:+0200
TZNAME:CEST
DTSTART:20250330T010000
END:DAYLIGHT
BEGIN:STANDARD
TZOFFSETFROM:+0200
TZOFFSETTO:+0100
TZNAME:CET
DTSTART:20251026T010000
END:STANDARD
END:VTIMEZONE
BEGIN:VEVENT
DTSTART;TZID=Europe/Paris:20240306T090000
DTEND;TZID=Europe/Paris:20240306T100000
DTSTAMP:20260422T095335
CREATED:20240223T145239Z
LAST-MODIFIED:20240223T145725Z
UID:10003-1709715600-1709719200@osztonanyu.hu
SUMMARY:Montessori klub-együtt\, lépésről\, lépésre!
DESCRIPTION:Részletek
URL:https://osztonanyu.hu/esemeny/baba-klub-03-06/
LOCATION:Klauzál ház\, Nagytétényi út 31-33\, Budapest\, 1223\, Magyarország
END:VEVENT
END:VCALENDAR