
BEGIN:VCALENDAR
VERSION:2.0
PRODID:-//ÖsztönAnyu - ECPv6.15.20//NONSGML v1.0//EN
CALSCALE:GREGORIAN
METHOD:PUBLISH
X-WR-CALNAME:ÖsztönAnyu
X-ORIGINAL-URL:https://osztonanyu.hu
X-WR-CALDESC:Események ÖsztönAnyu
REFRESH-INTERVAL;VALUE=DURATION:PT1H
X-Robots-Tag:noindex
X-PUBLISHED-TTL:PT1H
BEGIN:VTIMEZONE
TZID:UTC
BEGIN:STANDARD
TZOFFSETFROM:+0000
TZOFFSETTO:+0000
TZNAME:UTC
DTSTART:20230101T000000
END:STANDARD
END:VTIMEZONE
BEGIN:VEVENT
DTSTART;TZID=UTC:20240207T090000
DTEND;TZID=UTC:20240207T100000
DTSTAMP:20260423T133439
CREATED:20240129T130947Z
LAST-MODIFIED:20240201T183508Z
UID:9885-1707296400-1707300000@osztonanyu.hu
SUMMARY:Montessori klub-együtt\, lépésről\, lépésre!
DESCRIPTION:Részletek
URL:https://osztonanyu.hu/esemeny/baba-klub-02-07/
LOCATION:Klauzál ház\, Nagytétényi út 31-33\, Budapest\, 1223\, Magyarország
END:VEVENT
END:VCALENDAR