
BEGIN:VCALENDAR
VERSION:2.0
PRODID:-//ÖsztönAnyu - ECPv6.15.20//NONSGML v1.0//EN
CALSCALE:GREGORIAN
METHOD:PUBLISH
X-WR-CALNAME:ÖsztönAnyu
X-ORIGINAL-URL:https://osztonanyu.hu
X-WR-CALDESC:Események ÖsztönAnyu
REFRESH-INTERVAL;VALUE=DURATION:PT1H
X-Robots-Tag:noindex
X-PUBLISHED-TTL:PT1H
BEGIN:VTIMEZONE
TZID:UTC
BEGIN:STANDARD
TZOFFSETFROM:+0000
TZOFFSETTO:+0000
TZNAME:UTC
DTSTART:20230101T000000
END:STANDARD
END:VTIMEZONE
BEGIN:VEVENT
DTSTART;TZID=UTC:20240202T100000
DTEND;TZID=UTC:20240202T110000
DTSTAMP:20260423T195128
CREATED:20240129T125357Z
LAST-MODIFIED:20240201T183110Z
UID:9878-1706868000-1706871600@osztonanyu.hu
SUMMARY:Baba klub
DESCRIPTION:Vedd meg a jegyedet vagy bérletedet itt.
URL:https://osztonanyu.hu/esemeny/baba-klub/
LOCATION:Bartók Pagony\, Bartók Béla út 3\, Budapest\, 1118\, Magyarország
END:VEVENT
END:VCALENDAR